BEGIN:VCALENDAR
VERSION:2.0
PRODID:-//wp-events-plugin.com//7.2.3.1//EN
TZID:Europe/Rome
X-WR-TIMEZONE:Europe/Rome
BEGIN:VEVENT
UID:0-194@centrostudituristicifirenze.it
DTSTART;TZID=Europe/Rome:20190221T120000
DTEND;TZID=Europe/Rome:20190221T133000
DTSTAMP:20190215T100536Z
URL:https://centrostudituristicifirenze.it/eventi/wedding-industry-meeting
 -2019-conferenza-stampa/
SUMMARY:Wedding Industry Meeting 2019: conferenza stampa
DESCRIPTION:Si terrà il 21 febbraio 2019 a Firenze la conferenza stampa di
  presentazione dekka 2° edizione di Wedding Industry Meeting 2019\, l'ev
 ento dedicato all’industria del wedding\, in programma a Villa Corsini p
 er il prossimo 20 marzo.\nLa conferenza si terrà alle ore 12 nella Sala S
 tampa della Presidenza\, Palazzo Strozzi Sacrati\, Piazza del Duomo\, 10 
 - Firenze .\n\nInterverranno Stefano Ciuoffo\, Assessore alle attività 
 produttive\, al credito\, al turismo\, al commercio\, Regione Toscana\, Fr
 ancesco Palumbo\, direttore Toscana Promozione Turistica\, Tommaso Corsini
 \, CEO e founder Corsini.Events Group\, Alessandro Tortelli\, Direttore 
 Scientifico del Centro Studi Turistici di Firenze e Carlotta Ferrari\, Di
 rettrice Destination Florence Convention and Visitors Bureau.\n\nQuesto il
  programma della conferenza stampa:\n\nSALUTI DI APERTURA\nStefano Ciuoffo
 \, Assessore alle attività produttive\, al credito\, al turismo\, Region
 e Toscana\nFrancesco Palumbo\, Direttore di Toscana Promozione Turistica\
 nINTERVENTI\nPresentazione Wedding Industry Meeting 2019 a cura di Tomma
 so Corsini\, CEO e founder Corsini.Events Group\nRicerca Destination Wed
 ding in Italy con focus sulla Toscana a cura di Alessandro Tortelli\,Dire
 ttore Scientifico del Centro Studi Turistici di Firenze\nTuscany for Weddi
 ngs\, host destination partner di WIM 2019 a cura di Carlotta Ferrari\,
  Direttrice Destination Florence Convention and Visitors Bureau\nPer magg
 iori informazioni:  Destination Florence CVB - Tuscany for Weddings staf
 f@conventionbureau.it
ATTACH;FMTTYPE=image/jpeg:https://centrostudituristicifirenze.it/wp-conten
 t/uploads/2019/02/cs-wedding.jpg
CATEGORIES:Evento
LOCATION:Palazzo Strozzi Sacrati\, piazza Duomo\, 10\, Firenze\, Firenze\, 
 Italia
GEO:43.77268;11.257799999999975
X-APPLE-STRUCTURED-LOCATION;VALUE=URI;X-ADDRESS=piazza Duomo\, 10\, Firenze
 \, Firenze\, Italia;X-APPLE-RADIUS=100;X-TITLE=Palazzo Strozzi Sacrati:geo
 :43.77268,11.257799999999975
END:VEVENT
BEGIN:VTIMEZONE
TZID:Europe/Rome
X-LIC-LOCATION:Europe/Rome
BEGIN:STANDARD
DTSTART:20181028T020000
TZOFFSETFROM:+0200
TZOFFSETTO:+0100
TZNAME:CET
END:STANDARD
END:VTIMEZONE
END:VCALENDAR