BEGIN:VCALENDAR
VERSION:2.0
PRODID:-//wp-events-plugin.com//7.2.3.1//EN
TZID:Europe/Rome
X-WR-TIMEZONE:Europe/Rome
BEGIN:VEVENT
UID:0-184@centrostudituristicifirenze.it
DTSTART;TZID=Europe/Rome:20181120T103000
DTEND;TZID=Europe/Rome:20181120T130000
DTSTAMP:20181029T144011Z
URL:https://centrostudituristicifirenze.it/eventi/wedding-club-zankyou-a-f
 irenze/
SUMMARY:Wedding Club Zankyou a Firenze: il perfetto matrimonio made in Ital
 y che incanta gli stranieri
DESCRIPTION:Approda a Firenze Wedding Club Zankyou\, format itinerante org
 anizzato dall'omonimo portale dedicato al wedding.\n\nL'appuntamento è il
  convegno “Il perfetto matrimonio made in Italy che incanta gli stranier
 i” che si terrà il prossimo 20 NOVEMBRE nella sontuosa cornice di Pala
 zzo Pucci\, in via de Pucci 2\, a Firenze.\n\nModa Bridal e Destination We
 dding saranno i temi dell'incontro: in particolare sono previsti una seri
 e di interventi legati alle potenzialità della città di Firenze e dell
 a Regione Toscana nell’ambito del Destination Wedding a livello nazi
 onale e internazionale.\n\nTra gli speech\, confermate le presenze di Gia
 nni Stanzani\, co-owner e CEO di Palazzo Pucci Events&amp\;Academy\; Carl
 otta Ferrari\, Direttrice di Tuscany for Weddings – divisione Destinat
 ion Florence CVB\; Alessandro Tortelli\, Direttore Scientifico del Centr
 o Studi Turistici di Firenze. Prevista la partecipazione anche di esponent
 i della Regione Toscana.\nProtagonista d’eccezione\, la collezione di ab
 iti da sposa Max Mara.\n\nL'ingresso all'evento è esclusivamente su invit
 o.\n\nPer informazioni è possibile consultare il sito Zankyou.
ATTACH;FMTTYPE=image/jpeg:https://centrostudituristicifirenze.it/wp-conten
 t/uploads/2018/10/INVITO-Wedding-Club-Zankyou-Firenze.png
CATEGORIES:Evento
LOCATION:Palazzo Pucci\, via de Pucci\, 2\, Firenze\, Italia
GEO:43.7742655;11.25760809999997
X-APPLE-STRUCTURED-LOCATION;VALUE=URI;X-ADDRESS=via de Pucci\, 2\, Firenze\
 , Italia;X-APPLE-RADIUS=100;X-TITLE=Palazzo Pucci:geo:43.7742655,11.257608
 09999997
END:VEVENT
BEGIN:VTIMEZONE
TZID:Europe/Rome
X-LIC-LOCATION:Europe/Rome
BEGIN:STANDARD
DTSTART:20181028T020000
TZOFFSETFROM:+0200
TZOFFSETTO:+0100
TZNAME:CET
END:STANDARD
END:VTIMEZONE
END:VCALENDAR