BEGIN:VCALENDAR
VERSION:2.0
PRODID:-//wp-events-plugin.com//7.2.3.1//EN
TZID:Europe/Rome
X-WR-TIMEZONE:Europe/Rome
BEGIN:VEVENT
UID:1-113@centrostudituristicifirenze.it
DTSTART;TZID=Europe/Rome:20171003T110000
DTEND;TZID=Europe/Rome:20171003T110000
DTSTAMP:20170913T075231Z
URL:https://centrostudituristicifirenze.it/eventi/visittuscan-incontra-ope
 ratori/
SUMMARY:Visittuscany.com incontra gli operatori a Firenze
DESCRIPTION:Un incontro con gli operatori del settore per mettere a fuoco g
 li strumenti operativi del nuovo sito visittuscany.com e le modalità di i
 nterazione. è quello organizzato da Regione Toscana\, Toscana Promozione 
 Turistica e Fondazione Sistema Toscana per il prossimo 3 OTTOBRE a Firenze
 .\n\nL'incontro si terrà all'Istituto degli Innocenti\, in piazza SS. Ann
 unziata a Firenze\, a partire dalle ore 11.\nAnche CST Firenze parteciper
 à all'evento.\n\nDurante il workshop verranno presentati i servizi del nu
 ovo sito di promozione del turismo della Regione Toscana e le modalità di
  interazione con GE.CO\, la nuova piattaforma di gestione dei contenuti d
 i visittuscany.com.\nInoltre verranno presentate best practice e strumen
 ti per lo storytelling di destinazione.\n\nL'incontro è ad ingresso gra
 tuito ma la registrazione è obbligatoria: per iscriversi clicca qui.
ATTACH;FMTTYPE=image/jpeg:https://centrostudituristicifirenze.it/wp-conten
 t/uploads/2017/09/visittuscany.jpg
CATEGORIES:Evento
LOCATION:Istituto degli Innocenti\, piazza SS. Annunziata\, Firenze\, Itali
 a
GEO:43.7767077;11.260440700000004
X-APPLE-STRUCTURED-LOCATION;VALUE=URI;X-ADDRESS=piazza SS. Annunziata\, Fir
 enze\, Italia;X-APPLE-RADIUS=100;X-TITLE=Istituto degli Innocenti:geo:43.7
 767077,11.260440700000004
END:VEVENT
BEGIN:VTIMEZONE
TZID:Europe/Rome
X-LIC-LOCATION:Europe/Rome
BEGIN:DAYLIGHT
DTSTART:20170326T030000
TZOFFSETFROM:+0100
TZOFFSETTO:+0200
TZNAME:CEST
END:DAYLIGHT
END:VTIMEZONE
END:VCALENDAR