BEGIN:VCALENDAR
VERSION:2.0
PRODID:-//wp-events-plugin.com//7.2.3.1//EN
TZID:Europe/Rome
X-WR-TIMEZONE:Europe/Rome
BEGIN:VEVENT
UID:0-180@centrostudituristicifirenze.it
DTSTART;TZID=Europe/Rome:20181020T163000
DTEND;TZID=Europe/Rome:20181020T183000
DTSTAMP:20181017T125705Z
URL:https://centrostudituristicifirenze.it/eventi/viaggio-nella-toscana-ma
 rittima-analisi-del-turismo-4-0/
SUMMARY:Viaggio nella Toscana marittima\, analisi del turismo 4.0: convegno
  a Massa Marittima (Gr)
DESCRIPTION:I flussi turistici sulla costa Toscana e della Maremma\, il tur
 ismo culturale e sostenibile ma anche i cambiamenti nella promozione turis
 tica del territorio grazie alle nuove tecnologie: sono alcuni dei temi del
  convegno “Viaggio nella Toscana marittima. Analisi del turismo 4.0” c
 he si svolgerà sabato 20 ottobre.\n\nL'evento\, aperto al pubblico\, è f
 issato a partire dalle ore 16.30 nella Biblioteca Comunale Gaetano Badii d
 i Massa Marittima\, in Piazza XXIV Maggio.\n\nUn evento organizzato dal Li
 ons Club Alta Maremma insieme al Comune di Massa Marittima.\n\nDopo i salu
 ti del sindaco Marcello Giuntini e del presidente del Lions Club Bruno Ber
 nardini\, seguiranno gli interventi di Massimiliano Gini del Centro Studi 
 Turistici di Firenze\, del giornalista e scrittore Stefano Bartoli\, già 
 redattore del Tirreno e oggi direttore del blog Immediateboarding.it e di 
 Sara Poppi del portale web Medievalitaly.\n\nModera l’archeologo Carolin
 a Megale.
ATTACH;FMTTYPE=image/jpeg:https://centrostudituristicifirenze.it/wp-conten
 t/uploads/2017/05/borghi-toscana-massa-marittima.jpg
CATEGORIES:Evento
LOCATION:Biblioteca comunale Gaetano Badii\, Piazza XXIV Maggio\, Massa Mar
 ittima\, Italia
GEO:43.0517993;10.893522299999972
X-APPLE-STRUCTURED-LOCATION;VALUE=URI;X-ADDRESS=Piazza XXIV Maggio\, Massa 
 Marittima\, Italia;X-APPLE-RADIUS=100;X-TITLE=Biblioteca comunale Gaetano 
 Badii:geo:43.0517993,10.893522299999972
END:VEVENT
BEGIN:VTIMEZONE
TZID:Europe/Rome
X-LIC-LOCATION:Europe/Rome
BEGIN:DAYLIGHT
DTSTART:20180325T030000
TZOFFSETFROM:+0100
TZOFFSETTO:+0200
TZNAME:CEST
END:DAYLIGHT
END:VTIMEZONE
END:VCALENDAR