BEGIN:VCALENDAR
VERSION:2.0
PRODID:-//wp-events-plugin.com//7.2.3.1//EN
TZID:Europe/Rome
X-WR-TIMEZONE:Europe/Rome
BEGIN:VEVENT
UID:0-318@centrostudituristicifirenze.it
DTSTART;TZID=Europe/Rome:20230323T100000
DTEND;TZID=Europe/Rome:20230323T130000
DTSTAMP:20230313T101941Z
URL:https://centrostudituristicifirenze.it/eventi/valore-turismo-governare
 -il-territorio-per-lo-sviluppo-turistico/
SUMMARY:Valore Turismo: Governare il territorio per lo sviluppo turistico
DESCRIPTION:Una riflessione sul valore del turismo e sulle prospettive di s
 viluppo per la Toscana: è l'obiettivo del convegno GOVERNARE IL TERRITORI
 O PER LO SVILUPPO TURISTICO\, organizzato da Confesercenti Toscana e Assot
 urismo.\nL'appuntamento è in programma\nGIOVEDÌ 23 MARZO a partire dalle
  ore 10:00\nSALA SAN JACOPO IN CAMPO CORBOLINI Via Faenza n. 23\, a Firenz
 e\nTra i partecipanti ci sarà anche il direttore di CST Firenze\, Alessan
 dro Tortelli\, che interverrà sul tema del governo del territorio per una
  buona valorizzazione turistica.\nGOVERNARE IL TERRITORIO PER LO SVILUPPO 
 TURISTICO\nProgramma\nFabio Cenni\nSaluti\nAlessandro Tortelli\nIl governo
  del territorio per una valorizzazione turistica\nSimone Gheri - Sonia Pal
 lai\nLe scelte urbanistiche nel rapporto tra residenza e accoglienza turis
 tica\nStefano Gazzoli\nErosione della costa: sviluppo\, problemi e soluzio
 ni\nGiancarlo dell’Orco\nRicostruire l’identità locale: forme\, luogh
 i e itinerari\nAlessandra De Paola\nDestination management &amp\; best pra
 ctices: azioni efficaci\, soluzioni esportabili\nMarina Lauri\nLe politich
 e per lo sviluppo delle aree montane: nuove strategie a supporto dell'econ
 omia locale\nNico Gronchi\nConclusioni\nScarica la locandina con il progra
 mma\, cliccando qui
ATTACH;FMTTYPE=image/jpeg:https://centrostudituristicifirenze.it/wp-conten
 t/uploads/2021/08/Firenze-e1678702736136.png
CATEGORIES:Evento
LOCATION:Sala San Jacopo in Campo Corbolini\, via Faenza\, 23\, Firenze\, I
 talia
GEO:43.775791;11.252158
X-APPLE-STRUCTURED-LOCATION;VALUE=URI;X-ADDRESS=via Faenza\, 23\, Firenze\,
  Italia;X-APPLE-RADIUS=100;X-TITLE=Sala San Jacopo in Campo Corbolini:geo:
 43.775791,11.252158
END:VEVENT
BEGIN:VTIMEZONE
TZID:Europe/Rome
X-LIC-LOCATION:Europe/Rome
BEGIN:STANDARD
DTSTART:20221030T020000
TZOFFSETFROM:+0200
TZOFFSETTO:+0100
TZNAME:CET
END:STANDARD
END:VTIMEZONE
END:VCALENDAR