BEGIN:VCALENDAR
VERSION:2.0
PRODID:-//wp-events-plugin.com//7.2.3.1//EN
TZID:Europe/Rome
X-WR-TIMEZONE:Europe/Rome
BEGIN:VEVENT
UID:1-99@centrostudituristicifirenze.it
DTSTART;TZID=Europe/Rome:20170216T103000
DTEND;TZID=Europe/Rome:20170216T180000
DTSTAMP:20170201T141303Z
URL:https://centrostudituristicifirenze.it/eventi/turismo-toscana-convegno
 -volterra/
SUMMARY:Turismo Toscana: legge regionale\, ecosistema digitale e social med
 ia in un convegno a Volterra
DESCRIPTION:Una giornata di lavori per fare il punto sullo stato del turism
 o nella Regione Toscana\, dagli aspetti normativi e politici fino agli str
 umenti operativi a disposizione: è il convegno Turismo Toscana: legge re
 gionale\, ecosistema digitale e social media che si terrà a Volterra.\n\
 nL'appuntamento è fissato per\nGIOVEDI' 16 FEBBRAIO\ndalle ore 10.30 alle
  18\npresso Torre Toscano\, piazzetta San Michele\, a Volterra\nIl conveg
 no è organizzato da Comune di Volterra\, Comune di San Gimignano\, Centro
  Studi Turistici\, Regione Toscana e Toscana Promozione Turistica e vedrà
  la partecipazione di politici\, tecnici e esperti del settore.\nIn partic
 olare\, la mattina sarà dedicata all'analisi della governance del turismo
  in Toscana: dal nuovo Testo Unico\, alle strategie di promozione 2017 fi
 no alle politiche messe in campo a supporto del turismo. Nel pomeriggio i
 nvece verranno affrontati aspetti più tecnici\, da come funzionano i band
 i servizi qualificati\, al sistema digitale del turismo in Toscana fino al
 l'uso dei social media da parte degli operatori turistici.\nL'ingresso al 
 convegno è gratuito.\nPROGRAMMA TURISMO TOSCANA a VOLTERRA\nSESSIONE MATT
 INA (10.30 - 13.00)\nOre 10.30 Saluti e apertura dei lavori\nMarco Busell
 i\, sindaco Volterra\nCarolina Taddei\, assessore turismo San Gimignano\n
 Ore 10.45\nNuove regole per nuove strategie: l'organizzazione turistica r
 egionale - Alessandro Tortelli\, direttore CST Firenze\nOre 11.00\nTesto
  Unico del sistema turistico regionale: principali novità - Stefano Roma
 gnoli - Dirigente Turismo Regione Toscana\nOre 11.30\nStrategie di promoz
 ione per il Turismo in Toscana - Alberto Peruzzini\, Toscana Promozione Tu
 ristica\nInterventi del Pubblico\nOre 12.30\nObiettivi\, strategie e gove
 rnance del sistema turistico nella Regione Toscana - Stefano Ciuoffo\, Ass
 essore al turismo Regione Toscana\nOre 13.00\nChiusura dei lavori\nSESSIO
 NE POMERIGGIO (15.00 - 18.00)\nOre 15.00 Apertura dei lavori\nGianni Bar
 uffa\, assessore turismo Volterra\nOre 15.15\nTurismo e cambiamenti: il 
 turismo digitale in Toscana - Alessandro Tortelli\, direttore CST Firenze
 \nOre 15.30\nBandi Servizi Qualificati per imprese turistiche - Massimi
 liano Gini\, Centro Studi Turistici\nOre 16.00\nEcosistema turistico digi
 tale della Regione Toscana - Davide De Crescenzo - Fondazione Sistema To
 scana\nOre 16.30\nSocial Media e Turismo - Ylenia Caioli\, ObiettivoTre/C
 ST Firenze\nInterventi del Pubblico\nOre 17.30 Conclusioni\nGianni Baruffa
 \, assessore turismo Volterra\nOre 18.00\nChiusura dei lavori\nPer info
 rmazioni: Ufficio Turistico Comunale di Volterra\, tel 0588 - 87257 oppure
  volterraeventi@comune.volterra.pi.it\nScarica la locandina dell'evento!
ATTACH;FMTTYPE=image/jpeg:https://centrostudituristicifirenze.it/wp-conten
 t/uploads/2017/01/Turismo-Toscana-a-Volterra.png
CATEGORIES:Evento
LOCATION:Torre Toscano\, piazzetta San Michele\, Volterra\, Italia
GEO:43.4024185;10.861605899999972
X-APPLE-STRUCTURED-LOCATION;VALUE=URI;X-ADDRESS=piazzetta San Michele\, Vol
 terra\, Italia;X-APPLE-RADIUS=100;X-TITLE=Torre Toscano:geo:43.4024185,10.
 861605899999972
END:VEVENT
BEGIN:VTIMEZONE
TZID:Europe/Rome
X-LIC-LOCATION:Europe/Rome
BEGIN:STANDARD
DTSTART:20161030T020000
TZOFFSETFROM:+0200
TZOFFSETTO:+0100
TZNAME:CET
END:STANDARD
END:VTIMEZONE
END:VCALENDAR