BEGIN:VCALENDAR
VERSION:2.0
PRODID:-//wp-events-plugin.com//7.2.3.1//EN
TZID:Europe/Rome
X-WR-TIMEZONE:Europe/Rome
BEGIN:VEVENT
UID:0-193@centrostudituristicifirenze.it
DTSTART;TZID=Europe/Rome:20190201T103000
DTEND;TZID=Europe/Rome:20190201T120000
DTSTAMP:20190123T084449Z
URL:https://centrostudituristicifirenze.it/eventi/turismo-ferrara-evoluzio
 ne-analisi-e-prospettive-di-sviluppo/
SUMMARY:Turismo Ferrara: evoluzione\, analisi e prospettive di sviluppo
DESCRIPTION:Una giornata per riflettere sull'andamento del turismo a Ferrar
 a e sulle prospettive di sviluppo: è il convegno "Turismo Ferrara: evoluz
 ione\, analisi e prospettive di sviluppo"\, organizzato da Confesercenti F
 errara\, in collaborazione con Assoturismo e Assohotel.\n\nL'appuntamento 
 è fissato per il 1 febbraio nella sala riunione di Confesercenti\, in via
  Darsena n.178 a Ferrara\, a partire dalle ore 10.30.\n\nAl convegno parte
 ciperà anche il direttore di CST Firenze\, Alessandro Tortelli.\nPROGRAMM
 A CONVEGNO\nSALUTI\nPaolo Govoni\, Presidente CCIAA Ferrara\n\nINTERVENGON
 O:\n- Alessandro Tortelli\, Direttore Centro Studi Turistici Firenze:\n“
  5 anni di sviluppo turistico a Ferrara siamo cresciuti abbastanza?”\n- 
 Matteo Beghelli\, Centro Studi Unioncamere ER:\n“La sharing economy e il
  turismo: i dati su Ferrara e possibile evoluzione del mercato”\n- Massi
 mo Maisto\, Assessore al Turismo del Comune di Ferrara\n\nCHIUSURA LAVORI\
 nNicola Scolamacchia\, Presidente Confesercenti Ferrara\n\nCOORDINA:\nAles
 sandro Osti\, Direttore Confesercenti Ferrara\n\nPer informazioni sul conv
 egno è possibile contattare Confesercenti Ferrara.
ATTACH;FMTTYPE=image/jpeg:https://centrostudituristicifirenze.it/wp-conten
 t/uploads/2019/01/ferrara.jpg
CATEGORIES:Evento
LOCATION:Confesercenti Ferrara\, via Darsena 178\, Ferrara\, Italia
GEO:44.838247;11.601599999999962
X-APPLE-STRUCTURED-LOCATION;VALUE=URI;X-ADDRESS=via Darsena 178\, Ferrara\,
  Italia;X-APPLE-RADIUS=100;X-TITLE=Confesercenti Ferrara:geo:44.838247,11.
 601599999999962
END:VEVENT
BEGIN:VTIMEZONE
TZID:Europe/Rome
X-LIC-LOCATION:Europe/Rome
BEGIN:STANDARD
DTSTART:20181028T020000
TZOFFSETFROM:+0200
TZOFFSETTO:+0100
TZNAME:CET
END:STANDARD
END:VTIMEZONE
END:VCALENDAR