BEGIN:VCALENDAR
VERSION:2.0
PRODID:-//wp-events-plugin.com//7.2.3.1//EN
TZID:Europe/Rome
X-WR-TIMEZONE:Europe/Rome
BEGIN:VEVENT
UID:0-238@centrostudituristicifirenze.it
DTSTART;TZID=Europe/Rome:20191009T103000
DTEND;TZID=Europe/Rome:20191011T170000
DTSTAMP:20190930T171154Z
URL:https://centrostudituristicifirenze.it/eventi/ttg-travel-experience-20
 19-a-rimini/
SUMMARY:TTG Travel Experience 2019 a Rimini
DESCRIPTION:Nuovo appuntamento con TTG Travel Experience 2019\, la più im
 portante fiera internazionale B2B sul turismo dal 9 all'11 ottobre 2019 al
 la Fiera di Rimini.\n\nL'edizione 2019 sarà la 56^ e come sempre cercher
 à di tracciare il punto dello stato del mercato del turismo in Italia e a
 ll'estero.\n\nAttesi operatori da tutto il mondo (72.000 presenze da 90 Pa
 esi nel 2017)\, oltre a 1.500 buyer selezionati nei Paesi dai quali provie
 ne più forte la domanda di vacanza in Italia.\n\nIl programma completo di
  TTG 2019 è sul sito internet ufficiale.\n\nAnche quest'anno CST Firenze 
 parteciperà a TTG 2019.\n\nL'appuntamento è per GIOVEDI' 10 Ottobre nell
 a SALA ABETE - HALL OVEST\, dalle 10.30 alle 12.30\, per il convegno "Affi
 tti Brevi: impatto sempre più rilevante per i mercati turistici"\n\nInter
 vengono:\n\n 	Marco Pasi Direttore Confesercenti Emilia Romagna\n 	Andrea 
 Corsini Assessore al Turismo e Commercio Regione Emilia-Romagna\n 	Alessan
 dro Tortelli Direttore Centro Studi Turistici Firenze\n 	Filippo Donati Pr
 esidente Assohotel Confesercenti Emilia Romagna\n 	Vittorio Messina Presid
 ente Nazionale Assoturismo Confesercenti\n\nPresentazione dell’indagine 
 “Le proposte ricettive sui principali portali di commercializzazione tur
 istica. Focus Emilia-Romagna”.\nA cura di: Assoturismo Confesercenti Emi
 lia Romagna e Centro studi Turistici di Firenze\n\nCoordina: Marco Pasi\,
  Direttore Confesercenti Emilia Romagna
ATTACH;FMTTYPE=image/jpeg:https://centrostudituristicifirenze.it/wp-conten
 t/uploads/2019/09/TTG-.jpg
CATEGORIES:Evento
LOCATION:Rimini Fiera\, Via Emilia 155\, Rimini\, 47921\, Italia
GEO:44.0725997;12.526308299999982
X-APPLE-STRUCTURED-LOCATION;VALUE=URI;X-ADDRESS=Via Emilia 155\, Rimini\, 4
 7921\, Italia;X-APPLE-RADIUS=100;X-TITLE=Rimini Fiera:geo:44.0725997,12.52
 6308299999982
END:VEVENT
BEGIN:VTIMEZONE
TZID:Europe/Rome
X-LIC-LOCATION:Europe/Rome
BEGIN:DAYLIGHT
DTSTART:20190331T030000
TZOFFSETFROM:+0100
TZOFFSETTO:+0200
TZNAME:CEST
END:DAYLIGHT
END:VTIMEZONE
END:VCALENDAR