BEGIN:VCALENDAR
VERSION:2.0
PRODID:-//wp-events-plugin.com//7.2.3.1//EN
TZID:Europe/Rome
X-WR-TIMEZONE:Europe/Rome
BEGIN:VEVENT
UID:0-151@centrostudituristicifirenze.it
DTSTART;TZID=Europe/Rome:20180625T160000
DTEND;TZID=Europe/Rome:20180625T183000
DTSTAMP:20180620T080129Z
URL:https://centrostudituristicifirenze.it/eventi/tour-operating-dopo-dire
 ttiva-europea-sui-pacchetti/
SUMMARY:Tour operating dopo la Direttiva Europea sui pacchetti: convegno Fi
 avet Toscana
DESCRIPTION:Fare il punto sulla situazione del turismo in Italia e all'este
 ro\, in particolare alla luce della Direttiva Europea sui pacchetti: è l'
 obiettivo del convegno Il tour operating dopo la Direttiva Europea sui pac
 chetti. Tendenze del mercato globale\, prospettive politiche e normative 
 organizzato da Fiavet - Federazione Italiana Associazione Imprese Viaggi e
  Turismo\, di Confcommercio.\n\nL'appuntamento è per il 25 Giugno 2018\,
  alle ore 16.00 presso l'Auditorium della Fondazione Cassa di Risparmio di
  Firenze\, in Via Folco Portinari 5\, a Firenze.\n\nL'obiettivo è present
 are i dati che riflettono la situazione attuale\, analizzare le novità in
 trodotte dal Decreto Legislativo sui pacchetti ed il punto di vista del co
 nsumatore\, in un confronto con la politica.\nIl tour operating dopo la Di
 rettiva Europea sui pacchetti. Tendenze del mercato globale\, prospettive 
 politiche e normative\n(programma provvisorio)\nOre 16.00 Anna Lapini Pres
 idente di Confcommercio Toscana\nApertura dei lavori e saluti ai partecipa
 nti\nOre 16.20 Alessandro Tortelli Direttore Centro Studi Turistici\nE-COM
 MERCE E AZIENDE TOSCANE: RISULTATI DI UNA RICERCA\nOre 16.45 Antonello Sim
 one Avvocato\, Consulente ADICONSUM TOSCANA\nCONSUMATORI E NUOVI CRITERI D
 I SCELTA.\nOre 17.10 Federico Lucarelli Avvocato\, Consulente legale della
  FIAVET\, membro del Legal Committee dell’ECTAA\,\nDocente Master Univer
 sitario Facoltà di Economia dell’Università “Tor Vergata”\nLA DIRE
 TTIVA EU SUI PACCHETTI ED IL SUO RECEPIMENTO IN ITALIA\nOre 18.00 Tavola r
 otonda PROSPETTIVE DELL’INDUSTRIA DEL TURISMO TOSCANA.\ncon la partecipa
 zione degli esponenti delle seguenti formazioni politiche:\nAnna Paola Con
 cia (PARTITO DEMOCRATICO)\nMarco Stella (FORZA ITALIA)\nGiacomo Giannarell
 i (MOVIMENTO CINQUE STELLE)
ATTACH;FMTTYPE=image/jpeg:https://centrostudituristicifirenze.it/wp-conten
 t/uploads/2015/01/turisti-a-firenze.jpg
CATEGORIES:Evento
LOCATION:Auditorium Fondazione Cassa di Risparmio Firenze\, via Folco Porti
 nari 5\, Firenze \, Italia
GEO:43.772788;11.259211499999992
X-APPLE-STRUCTURED-LOCATION;VALUE=URI;X-ADDRESS=via Folco Portinari 5\, Fir
 enze \, Italia;X-APPLE-RADIUS=100;X-TITLE=Auditorium Fondazione Cassa di R
 isparmio Firenze:geo:43.772788,11.259211499999992
END:VEVENT
BEGIN:VTIMEZONE
TZID:Europe/Rome
X-LIC-LOCATION:Europe/Rome
BEGIN:DAYLIGHT
DTSTART:20180325T030000
TZOFFSETFROM:+0100
TZOFFSETTO:+0200
TZNAME:CEST
END:DAYLIGHT
END:VTIMEZONE
END:VCALENDAR