BEGIN:VCALENDAR
VERSION:2.0
PRODID:-//wp-events-plugin.com//7.2.3.1//EN
TZID:Europe/Rome
X-WR-TIMEZONE:Europe/Rome
BEGIN:VEVENT
UID:0-149@centrostudituristicifirenze.it
DTSTART;TZID=Europe/Rome:20180612T093000
DTEND;TZID=Europe/Rome:20180612T163000
DTSTAMP:20180606T093401Z
URL:https://centrostudituristicifirenze.it/eventi/tour-anci-toscana-le-off
 icine-di-identita-a-sorano/
SUMMARY:Tour ANCI Toscana: le Officine di Identità a Sorano
DESCRIPTION:Prosegue il tour “Officine di Identità”\, ciclo di incontr
 i nati dalla volontà di Anci e Regione Toscana per offrire un’occasione
  di riflessione\, approfondimento e confronto a supporto dei nuovi ambiti 
 turistici nella definizione delle proprie potenzialità di sviluppo.\n\nCo
 erentemente con quanto emerso nel corso degli Stati Generali della Montagn
 a e con quanto scritto nel Libro Verde del Turismo in Toscana\, Anci vuole
  dare gambe alle raccomandazioni emerse\, certa che lo sviluppo sostenibil
 e dei territori montani passi innanzitutto dalla valorizzazione del loro p
 atrimonio culturale e identitario.\n\nIl prossimo appuntamento è Officine
  di identità a Sorano: l'evento è previsto per il 12 GIUGNO al Teatrino 
 della Fortezza Orsini\, in piazza Cairoli\, a Sorano.\n\nPartendo dall’a
 nalisi dei principali driver turistici\, presenti e futuri\, e delle nuove
  forme di narrazione del territorio\, a Pratovecchio Stia verranno approfo
 ndite le specificità dei singoli ambiti e verrà allestito un confronto s
 ullo sviluppo dell’economia territoriale attraverso nuove forme aggregat
 ive di valorizzazione e promozione dei prodotti locali.\nPROGRAMMA officin
 e di identità a Pratovecchio Stia\nore 9.30 / 11.30 SESSIONE PLENARIA\nIn
 troduzione e saluti\nCarla Benocci Sindaco di Sorano\nFrancesca Basanieri 
 Responsabile Turismo e Marketing Territoriale di Anci Toscana e Sindaco di
  Cortona\nDriver e motivazioni di viaggio in Toscana\nAlberto Peruzzini To
 scana Promozione Turistica\nVisittuscany.com: l'opportunità di make\nPaol
 o Chiappini Fondazione Sistema Toscana\nLe nuove forme di narrazione del t
 erritorio\nEmilio Casalini Giornalista e Scrittore\nStory telling e Story 
 doing – Le esperienze\, i progetti e le buone pratiche dei territori\nIl
  progetto Argentario\nFabrizio Palombo PortAngetario\n12.00 / 13.30 SESSIO
 NI IN PARALLELO - NELL’AMBITO DELL’AMBITO\nLo sviluppo turistico passa
  attraverso la valorizzazione del loro patrimonio culturale e identitario\
 ne dalla capacità di intrecciarlo con le esigenze e i gusti dei viaggiato
 ri di oggi.\nUna sessione di approfondimento rivolta ai principali attori 
 dei\nsingoli ambiti territoriali: amministratori\, enti\, scuole\, associa
 zioni.\nCoordina Alessandro Tortelli\, Centro Studi Turistici Firenze\n12.
 00 / 13.30 I cantieri di narrazione identitaria\n13. 30 Degustazione prodo
 tti tipici del Casentino\n14.30 Introduce e coordina\nPierandrea Vanni vic
 esindaco di Sorano e  responsabile cultura Anci Toscana.\nLe reti cultura
 li\nIrene Lauretti Rete dei Musei della Maremma e Assessore del Comune di 
 Pigliano\nI musei e le comunità\nAlessandro Compagnino Regione Toscana\nC
 laudia Baroncini Regione Toscana\nLe opportunità per la cultura\nClaudio 
 Bocci Federculture\nRoberto Ferrari Regione Toscana\n16.00  Visita ai Sot
 terranei della Fortezza Orsini\nPer iscriversi ad Officine di Identità a 
 Sorano\, clicca qui
ATTACH;FMTTYPE=image/jpeg:https://centrostudituristicifirenze.it/wp-conten
 t/uploads/2018/05/tour-anci-officine-di-identità.jpg
CATEGORIES:Evento
LOCATION:Teatrino Fortezza Orsini\, piazza Cairoli\, Sorano\, Italia
GEO:42.6829163;11.714536299999963
X-APPLE-STRUCTURED-LOCATION;VALUE=URI;X-ADDRESS=piazza Cairoli\, Sorano\, I
 talia;X-APPLE-RADIUS=100;X-TITLE=Teatrino Fortezza Orsini:geo:42.6829163,1
 1.714536299999963
END:VEVENT
BEGIN:VTIMEZONE
TZID:Europe/Rome
X-LIC-LOCATION:Europe/Rome
BEGIN:DAYLIGHT
DTSTART:20180325T030000
TZOFFSETFROM:+0100
TZOFFSETTO:+0200
TZNAME:CEST
END:DAYLIGHT
END:VTIMEZONE
END:VCALENDAR