BEGIN:VCALENDAR
VERSION:2.0
PRODID:-//wp-events-plugin.com//7.2.3.1//EN
TZID:Europe/Rome
X-WR-TIMEZONE:Europe/Rome
BEGIN:VEVENT
UID:1-97@centrostudituristicifirenze.it
DTSTART;TZID=Europe/Rome:20161216T160000
DTEND;TZID=Europe/Rome:20161216T180000
DTSTAMP:20161205T113926Z
URL:https://centrostudituristicifirenze.it/eventi/social-media-marketing-n
 el-turismo-pienza/
SUMMARY:Seminario CST: Social Media Marketing nel Turismo a Pienza
DESCRIPTION:Storytelling e Social media marketing per valorizzare il turism
 o nell'area di Pienza: sono questi i temi dei seminari Per un turismo sos
 tenibile e competitivo a Pienza\, ciclo di incontri organizzato da Centro 
 Studi Turistici di Firenze a Pienza.\nIl secondo appuntamento è dedicato
  a Social Media Marketing nel Turismo e si terrà\nGIOVEDI' 16 DICEMBRE\,
  in orario 16-18\,\npresso la Sala Consiglio del COMUNE DI PIENZA\,\nCors
 o Il Rossellino n.61\, a Pienza.\nIl seminario organizzato da CST Firenze
  è gratuito e aperto a tutti gli operatori del settore turistico.\nParten
 do dall'analisi del fenomeno dei social media e dai dati su loro utilizzo
  nel mondo e in Italia\, l'incontro permetterà di fare un excursus sulle 
 principali piattaforme social del momento e sul loro utilizzo: verrà forn
 ito un quadro degli strumenti a disposizione degli operatori per fare soc
 ial media marketing ed essere così promotori di se stessi e del proprio 
 territorio.\n\nDurante il seminario\, verranno mostrati esempi concreti di
  utilizzo dei social media e sarà possibile per gli operatori interagire 
 con i relatori\, portando la propria esperienza e valutando insieme le str
 ategie adottate.\n\nA tenere l'incontro saranno Massimiliano Gini\, Centr
 o Studi Turistici e Ylenia Caioli\, giornalista professionista dello Studi
 o Associato ObiettivoTre\, che da anni lavora nell'ambito della comunicazi
 one online.\n\nIl seminario Social Media Marketing nel Turismo rientra nel
 le attività organizzate dal Centro Studi Turistici di Firenze per l'Osser
 vatorio Turistico di Destinazione del Comune di Pienza.\n\nPer maggiori in
 formazioni sul seminario Social Media Marketing nel Turismo è possibile c
 ontattare gli organizzatori al numero 338.4310663\n\nScarica l'invito all'
 evento!
ATTACH;FMTTYPE=image/jpeg:https://centrostudituristicifirenze.it/wp-conten
 t/uploads/2016/12/social-media-a-pienza.png
CATEGORIES:Evento
LOCATION:Comune di Pienza\, Corso Il Rossellino\, 61\, Pienza\, Italia
GEO:43.07664399999999;11.679155000000037
X-APPLE-STRUCTURED-LOCATION;VALUE=URI;X-ADDRESS=Corso Il Rossellino\, 61\, 
 Pienza\, Italia;X-APPLE-RADIUS=100;X-TITLE=Comune di Pienza:geo:43.0766439
 9999999,11.679155000000037
END:VEVENT
BEGIN:VTIMEZONE
TZID:Europe/Rome
X-LIC-LOCATION:Europe/Rome
BEGIN:STANDARD
DTSTART:20161030T020000
TZOFFSETFROM:+0200
TZOFFSETTO:+0100
TZNAME:CET
END:STANDARD
END:VTIMEZONE
END:VCALENDAR