BEGIN:VCALENDAR
VERSION:2.0
PRODID:-//wp-events-plugin.com//7.2.3.1//EN
TZID:Europe/Rome
X-WR-TIMEZONE:Europe/Rome
BEGIN:VEVENT
UID:1-77@centrostudituristicifirenze.it
DTSTART;TZID=Europe/Rome:20160526T100000
DTEND;TZID=Europe/Rome:20160526T130000
DTSTAMP:20160516T100254Z
URL:https://centrostudituristicifirenze.it/eventi/sistema-turistico-region
 e-toscana-cooperative/
SUMMARY:Sistema Turistico della Regione Toscana e imprese cooperative
DESCRIPTION:Turismo e imprese cooperative in Toscana: è il tema del conveg
 no La nuova organizzazione del sistema turistico della Regione Toscana - O
 pportunità per le imprese cooperative\, organizzato da Legacoop Toscana\,
  Confcooperative Toscana\, AGCI e Alleanza delle Cooperative Italiane.\n\n
 L'appuntamento è per GIOVEDI' 26 MAGGIO\, dalle 10-alle 13\, in via Fiume
  7\, a FIRENZE.\n\nDurante la giornata di lavori\, si parlerà del nuovo s
 istema di accoglienza e informazione turistica in Toscana e il piano prom
 ozionale per il 2016.\nNel corso degli interventi\, Alessandro Tortelli\, 
 direttore di CST Firenze\, presenterà i dati dei flussi turistici 2016/17
  e le prime valutazioni per i comuni e gli OTD\, Osservatori Turistici di 
 Destinazione.\nPROGRAMMA 26 MAGGIO\nore 10\,00 /introduzione Maria Pia Ca
 ttolico –Confcooperative Toscana\nore 12\,50/ sintesi fine lavori Federi
 co Pericoli – Agci Toscana\n coordinamento lavori: Riccardo Vannini – 
 Legacoop Toscana\ninterventi:\nStefano Romagnoli (Regione Toscana)\nil nuo
 vo sistema di accoglienza e informazione turistica sovra comunale previst
 o dalla normativa regionale\nAlberto Peruzzini (Toscana Promozione Turisti
 ca)\nil piano promozionale turistico 2016\nAlessandro Tortelli (CST Firenz
 e)\nflussi turistici 2016\\2017 e prime valutazioni per i comuni e gli OTD
 \nPaolo Bongini (Regione Toscana)\nil progetto “via francigena”\nRaffa
 ele Mannelli (Regione Toscana)\nil progetto “etruschi”\nPaolo Chiappin
 i (Fondazione Sistema Toscana)\nil progetto “toscana ovunque bella“\nA
 nci Toscana\nNuovi impegni per i comuni\nSimonetta Baldi/Elisa Nannicini (
 Regione Toscana)\nPOR – CREO 2014-2020: le misure per il turismo
ATTACH;FMTTYPE=image/jpeg:https://centrostudituristicifirenze.it/wp-conten
 t/uploads/2016/05/cis-firenze-meeting.jpg
CATEGORIES:Evento
LOCATION:CIS Meeting\, via Fiume\, 7\, Firenze\, Italia
GEO:43.7770157;11.250029300000051
X-APPLE-STRUCTURED-LOCATION;VALUE=URI;X-ADDRESS=via Fiume\, 7\, Firenze\, I
 talia;X-APPLE-RADIUS=100;X-TITLE=CIS Meeting:geo:43.7770157,11.25002930000
 0051
END:VEVENT
BEGIN:VTIMEZONE
TZID:Europe/Rome
X-LIC-LOCATION:Europe/Rome
BEGIN:DAYLIGHT
DTSTART:20160327T030000
TZOFFSETFROM:+0100
TZOFFSETTO:+0200
TZNAME:CEST
END:DAYLIGHT
END:VTIMEZONE
END:VCALENDAR