BEGIN:VCALENDAR
VERSION:2.0
PRODID:-//wp-events-plugin.com//7.2.3.1//EN
TZID:Europe/Rome
X-WR-TIMEZONE:Europe/Rome
BEGIN:VEVENT
UID:0-254@centrostudituristicifirenze.it
DTSTART;TZID=Europe/Rome:20200128T100000
DTEND;TZID=Europe/Rome:20200128T130000
DTSTAMP:20200122T150059Z
URL:https://centrostudituristicifirenze.it/eventi/progetti-di-formazione-s
 trategica-confesercenti-firenze-evento-conclusivo/
SUMMARY:Progetti di formazione strategica Confesercenti Firenze: evento con
 clusivo
DESCRIPTION:Evento conclusivo dei Progetti di formazione strategica promoss
 i da Confesercenti Firenze S.TRA.DE -Strategic Training &amp\; Tourism Dev
 elopement e 3°A.T – Attrattività ed Accoglienza della Costa Toscana pe
 r Accrescere la competitività delle aziende Turistiche".\nL'appuntamento 
 è per martedì 28 gennaio  ore 10.00  all'Auditorium Confesercenti Fi
 renze\nin piazza Pier Vettori 8/10 a Firenze.\n\nL’incontro\, durante il
  quale saranno presentati e diffusi i risultati ottenuti\, grazie al contr
 ibuto di soggetti istituzionali\, Stakeholders\, imprenditori del settore\
 , sarà un’occasione di confronto sui fabbisogni formativi e occupaziona
 li di filiera turistica.\nAi lavori parteciperà anche il direttore di CST
  Firenze\, Alessandro Tortelli\, che interverrà sul tema "Necessità e pr
 ospettive del settore turistico".\n\nIl programma completo dei lavori è d
 isponibile sul sito di Confesercenti Firenze.\n\nPer informazioni:\nCESCOT
  Firenze srl -055 2705205 E-mail: formazione@cescot.fi.it CESCOT Formaz
 ione srl -0565 918812 E-mail: segreteriacescotpf@confesercenti.li.it
ATTACH;FMTTYPE=image/jpeg:https://centrostudituristicifirenze.it/wp-conten
 t/uploads/2020/01/confesercenti-evento-conclusivo.jpg
CATEGORIES:Evento
LOCATION:Auditorium Confesercenti Firenze\, piazza P. Vettori 8/10\, Firenz
 e\, Italia
GEO:43.771515;11.232512
X-APPLE-STRUCTURED-LOCATION;VALUE=URI;X-ADDRESS=piazza P. Vettori 8/10\, Fi
 renze\, Italia;X-APPLE-RADIUS=100;X-TITLE=Auditorium Confesercenti Firenze
 :geo:43.771515,11.232512
END:VEVENT
BEGIN:VTIMEZONE
TZID:Europe/Rome
X-LIC-LOCATION:Europe/Rome
BEGIN:STANDARD
DTSTART:20191027T020000
TZOFFSETFROM:+0200
TZOFFSETTO:+0100
TZNAME:CET
END:STANDARD
END:VTIMEZONE
END:VCALENDAR