BEGIN:VCALENDAR
VERSION:2.0
PRODID:-//wp-events-plugin.com//7.2.3.1//EN
TZID:Europe/Rome
X-WR-TIMEZONE:Europe/Rome
BEGIN:VEVENT
UID:0-298@centrostudituristicifirenze.it
DTSTART;TZID=Europe/Rome:20220309T180000
DTEND;TZID=Europe/Rome:20220309T180000
DTSTAMP:20220209T084546Z
URL:https://centrostudituristicifirenze.it/eventi/patentino-ospitalita-202
 2-a-castiglione-della-pescaia/
SUMMARY:Patentino ospitalità 2022 a Castiglione della Pescaia
DESCRIPTION:IV edizione per il Patentino dell'ospitalità promosso dal Comu
 ne di Castiglione delle Pescaia.\n\nIl percorso gratuito è rivolto agli o
 peratori turistici del comune e prevede incontri\, corsi e uscite didattic
 he per scoprire il territorio.\n\nGli incontri si terranno per la maggior 
 parte nella Sala consiliare "Gabriella Lorenzoni"\, in via Cesare Battisti
 \, a Castiglione della Pescaia a partire dal 6 febbraio e fino al 6 aprile
  alle ore 15.00\n\nIn particolare\, il 9 marzo è in programma l'incontro 
 con l’assessore al turismo della Regione Toscana Leonardo Marras e Aless
 andro Tortelli\, direttore scientifico del Centro studi turistici di Firen
 ze\, sul tema “Dalla crisi alle opportunità per il turismo del domani: 
 analisi dei dati\, prospettive future".\n\nDi seguito il calendario comple
 to degli incontri del Patentino dell'Ospitalità 2022 a Castiglione della 
 Pescaia:\n\n 	16 febbraio “Patentino escursionistico: i sentieri per viv
 ere e promuovere il territorio" con il direttore di Anci Toscana Simone Gh
 eri e il responsabile del turismo Sonia Pallai. A seguire il Consorzio Tur
 istico ‘Maremma Experience’ presenterà la nuova carta dei sentieri ca
 stiglionesi.\n 	23 febbraio “ Marketing Turistico: strategie e strumenti
  concreti per la promozione della tua struttura” con Marco Gasparri\, de
 llo Studio Kalimero Marketing &amp\; Comunicazione.\n 	28 febbraio "Per un
  turismo responsabile e sostenibile. Vetrina Toscana: valore dei prodotti 
 ed identità enogastronomica del territorio" con il direttore di Toscana p
 romozione turistica Francesco Tapinassi\, Daniela Mugnai di Vetrina Toscan
 a e Sonia Pallai di Anci Toscana.\n 	2 marzo\, “Pedalando alla scoperta 
 dei Sentieri Castiglionesi: visita guidata in bicicletta” ritrovo in pia
 zza Garibaldi\, a cura del Consorzio Turistico ‘Maremma Experience’.\n
  	9 marzo “Dalla crisi alle opportunità per il turismo del domani: anal
 isi dei dati\, prospettive future “ con l'assessore al turismo della Reg
 ione Toscana Leonardo Marras e Alessandro Tortelli\, direttore scientifico
  del Centro studi turistici di Firenze\n 	16 marzo "Eccellenze di arte" ap
 puntamento con l’arte contemporanea in località Piatto Lavato – Buria
 no con visita al Giardino di Ritorno di Rodolfo Lacquaniti.\n 	21 marzo\, 
 “A spasso per il borgo” visita guidata con ritrovo in piazza Garibaldi
 .\n 	23 marzo "Vino: elementi di degustazione e servizio” incontro sulla
  conoscenza delle produzioni locali con Luca Papalini\, presidente dell’
 Associazione Bacco in Toscana.\n 	30 marzo “ComunichiAMO l’Italia. Il 
 linguaggio del corpo per l’accoglienza turistica” con il regista\, pro
 duttore cinematografico\, conduttore televisivo e coach di comunicazione L
 uca Vullo.\n 	6 aprile\, “Vino: elementi di degustazione e servizio” s
 econdo appuntamento con Luca Papalini presidente dell’Associazione Bacco
  in Toscana.\n\nPer informazioni sulle iniziative è possibile rivolgersi 
 al Comune di Castiglione della Pescaia
ATTACH;FMTTYPE=image/jpeg:https://centrostudituristicifirenze.it/wp-conten
 t/uploads/2020/03/0-10.jpg
CATEGORIES:Evento
LOCATION:Comune Castiglione della Pescaia\, via Cesare Battisti\, Castiglio
 ne della Pescaia\, Italia
GEO:42.763717;10.882175
X-APPLE-STRUCTURED-LOCATION;VALUE=URI;X-ADDRESS=via Cesare Battisti\, Casti
 glione della Pescaia\, Italia;X-APPLE-RADIUS=100;X-TITLE=Comune Castiglion
 e della Pescaia:geo:42.763717,10.882175
END:VEVENT
BEGIN:VTIMEZONE
TZID:Europe/Rome
X-LIC-LOCATION:Europe/Rome
BEGIN:STANDARD
DTSTART:20211031T020000
TZOFFSETFROM:+0200
TZOFFSETTO:+0100
TZNAME:CET
END:STANDARD
END:VTIMEZONE
END:VCALENDAR