BEGIN:VCALENDAR
VERSION:2.0
PRODID:-//wp-events-plugin.com//7.2.3.1//EN
TZID:Europe/Rome
X-WR-TIMEZONE:Europe/Rome
BEGIN:VEVENT
UID:1-119@centrostudituristicifirenze.it
DTSTART;TZID=Europe/Rome:20171123T093000
DTEND;TZID=Europe/Rome:20171123T133000
DTSTAMP:20171108T101332Z
URL:https://centrostudituristicifirenze.it/eventi/mobilita-in-toscana-doma
 nda-trasporto-turismo/
SUMMARY:Mobilità in Toscana: la domanda di trasporto del turismo
DESCRIPTION:Fare il punto sulla mobilità in Toscana con particolare riferi
 mento agli spostamenti dei turisti: è l'obiettivo del convegno "La mobili
 tà in Toscana: la domanda di trasporto del turismo" organizzato da ACI - 
 Automobile Club Italia\, Direzione compartimentale Toscana Liguria Umbria 
 Marche e Sardegna e Centro Studi Turistici di Firenze.\n\nL'appuntamento\,
  aperto al pubblico\, si terrà giovedì 23 novembre\, dalle ore 9.30 all
 e 13\, nell'Auditorium del Consiglio Regionale della Toscana\, in via Cavo
 ur 4\, a Firenze.\n\nAl convegno parteciperanno politici\, esponenti di En
 ti Pubblici\, esperti del settore e rappresentanti di categoria\, che si c
 onfronteranno sul tema dei flussi turistici\, cercando di evidenziare sopr
 attutto la tipologia di mobilità del turista e i mezzi utilizzati.\nProgr
 amma Convegno Mobilità in Toscana\nOre 9.30 Welcome Coffee e Registrazion
 e Partecipanti\nOre 10.00 Saluti e apertura dei lavori\nEugenio Giani - Pr
 esidente Consiglio Regionale Toscana\nMassimo Ruffilli - Presidente Centro
  Studi Turistici Firenze\nAlessandra Rosa - Direttore Compartimentale ACI 
 Toscana\, Umbria\, Liguria\, Marche e Sardegna\nOre 10.15 Accessibilità e
  Mobilità: elementi strategici per uno sviluppo turistico\nAlessandro Tor
 telli - Direttore Scientifico Centro Studi Turistici Firenze\nOre 10.30 La
  mobilità dei flussi turistici in Regione Toscana\nElisabetta Ventisette 
 - Assegnista di Ricerca Università di Firenze DISEI\nOre 11.00 Tavola Rot
 onda - Mobilità in Toscana\, la domanda di trasporto del turismo\nVincenz
 o Ceccarelli - Assessore Infrastrutture\, mobilità e urbanistica Regione 
 Toscana\nStefano Ciuoffo - Assessore attività produttive\, turismo e comm
 ercio Regione Toscana\nAnna Paola Concia - Assessore al Turismo Comune di 
 Firenze\nStefano Ferrini - vice sindaco con delega sviluppo economico e tu
 rismo Comune di Piombino\nSimone Gheri - Direttore Anci Toscana\nNico Gron
 chi - Presidente Confesercenti Toscana\n(in rappresentanza di Confcommerci
 o\, Confesercenti\, Confindustria Toscana e Alleanza Cooperative Italiane 
 della Toscana)\nGina Giani - Amministratore delegato Toscana Aeroporti\nSt
 efano Corsini - Presidente Autorità Sistema Portuale Mar Tirreno Settentr
 ionale\nEnrico Pagliari - Cooridnatore Area Tecnica Automobile Club Italia
 \nModeratore: Leonardo Bartoletti\, giornalista\nOre 13.00 Chiusura lavori
 \nAlessandro Tortelli - Direttore scientifico Centro Studi Turistici Firen
 ze\nScarica la locandina con il programma dell'evento\, cliccando qui.\nPe
 r informazioni:\nACI - Direzione Compartimentale Toscana Liguria Umbria Ma
 rche e Sardegna\nPaola Tacconi (Tel. 055.2001401 email p.tacconi@aci.it) -
  Angela Gringeri (tel. 0575.292817 email a.gringeri@aci.it)\nCentro Studi 
 Turistici Firenze\nTel. 055.3438733 email info@cstfirenze.it
ATTACH;FMTTYPE=image/jpeg:https://centrostudituristicifirenze.it/wp-conten
 t/uploads/2017/11/convegno-aci-mobilità-in-toscana.jpg
CATEGORIES:Evento
LOCATION:Auditorium Consiglio Regionale della Toscana\, via Cavour\, 4\, Fi
 renze\, Firenze\, Italia
GEO:43.77515560000001;11.256108199999971
X-APPLE-STRUCTURED-LOCATION;VALUE=URI;X-ADDRESS=via Cavour\, 4\, Firenze\, 
 Firenze\, Italia;X-APPLE-RADIUS=100;X-TITLE=Auditorium Consiglio Regionale
  della Toscana:geo:43.77515560000001,11.256108199999971
END:VEVENT
BEGIN:VTIMEZONE
TZID:Europe/Rome
X-LIC-LOCATION:Europe/Rome
BEGIN:STANDARD
DTSTART:20171029T020000
TZOFFSETFROM:+0200
TZOFFSETTO:+0100
TZNAME:CET
END:STANDARD
END:VTIMEZONE
END:VCALENDAR