BEGIN:VCALENDAR
VERSION:2.0
PRODID:-//wp-events-plugin.com//7.2.3.1//EN
TZID:Europe/Rome
X-WR-TIMEZONE:Europe/Rome
BEGIN:VEVENT
UID:0-276@centrostudituristicifirenze.it
DTSTART;TZID=Europe/Rome:20210304T090000
DTEND;TZID=Europe/Rome:20210304T130000
DTSTAMP:20210226T113249Z
URL:https://centrostudituristicifirenze.it/eventi/innovazione-nei-servizi-
 turistici-su-scala-metropolitana/
SUMMARY:Innovazione nei servizi turistici su scala metropolitana
DESCRIPTION:Formare\, a livello strategico e tecnico-pratico\, amministrato
 ri e funzionari pubblici che si occupano di gestione delle destinazioni tu
 ristiche nel territorio della Città metropolitana di Firenze: è l'obiett
 ivo del progetto "Metropoli Strategiche"\, promosso da Anci (nazionale e T
 oscana)\, Città metropolitana di Firenze\, Unione Europea - Fondo sociale
  e Fondo europeo di sviluppo\, Agenzia per la coesione territoriale\, Dipa
 rtimento Funzione Pubblica - Presidenza del Consiglio\, PON-Programma oper
 ativo nazionale\, in collaborazione con CST Firenze.\n\nIl progetto ha co
 involto 4 ambiti turistici: Firenze e area fiorentina\, Mugello\, Empolese
  Valdelsa e Montalbano e Chianti (3 comuni fiorentini). I risultati dell'i
 niziativa saranno presentati nel corso del seminario online:\nINNOVAZIONE 
 NEI SERVIZI TURISTICI SU SCALA METROPOLITANA:\nCOME ATTIVARLA CON LA GESTI
 ONE DI DATI E INFORMAZIONI.\nche si terrà\nGIOVEDI' 4 MARZO\, alle ore 9.
 00\nsu piattaforma Zoom.\nQuesto il programma del seminario:\nSaluti istit
 uzionali:\nLeonardo Marras\, Assessore al turismo della Regione Toscana\nC
 ecilia Del Re\, Assessora al turismo del Comune di Firenze\nRaffaella Flor
 io\, Responsabile Città medie e pianificazione strategica per ANCI nazion
 ale\nSimone Gheri\, Direttore di ANCI toscana\nInterventi tecnici:\n- L'at
 tività formativa realizzata - Alessandro Tortelli\, Centro Studi Turistic
 i\n- Lo stato dell'arte della piattaforma Feel Florence (nuovi sviluppi pr
 evisti) - Gianluca Vannuccini\, Comune di Firenze\n- L'attività della red
 azione diffusa metropolitana - Carlotta Viviani\, Comune di Firenze e Lara
  Fantoni\, Città Metropolitana Firenze\n- Il piano operativo 2021 e il co
 ordinamento fra gli ambiti turistici in scala metropolitana - Francesco Pa
 lumbo\, Toscana Promozione Turistica\nConclusioni:\nTommaso Triberti\, Con
 sigliere delegato al turismo della Città metropolitana di Firenze\nPer pa
 rtecipare è necessario inviare una richiesta alla segreteria della Città
  Metropolitana di Firenze:\nantonella.ciampi@cittametropolitana.fi.it
ATTACH;FMTTYPE=image/jpeg:https://centrostudituristicifirenze.it/wp-conten
 t/uploads/2021/02/seminario-innovazione.jpg
CATEGORIES:Evento
END:VEVENT
BEGIN:VTIMEZONE
TZID:Europe/Rome
X-LIC-LOCATION:Europe/Rome
BEGIN:STANDARD
DTSTART:20201025T020000
TZOFFSETFROM:+0200
TZOFFSETTO:+0100
TZNAME:CET
END:STANDARD
END:VTIMEZONE
END:VCALENDAR