BEGIN:VCALENDAR
VERSION:2.0
PRODID:-//wp-events-plugin.com//7.2.3.1//EN
TZID:Europe/Rome
X-WR-TIMEZONE:Europe/Rome
BEGIN:VEVENT
UID:1-121@centrostudituristicifirenze.it
DTSTART;TZID=Europe/Rome:20171212T143000
DTEND;TZID=Europe/Rome:20171212T180000
DTSTAMP:20171201T120534Z
URL:https://centrostudituristicifirenze.it/eventi/il-turismo-cresce-firenz
 e-cambia-convegno-confesercenti-a-firenze/
SUMMARY:Il turismo cresce\, Firenze cambia: convegno Confesercenti a Firenz
 e
DESCRIPTION:Un incontro per riflettere insieme ad operatori ed istituzioni 
 sui cambiamenti del turismo a Firenze negli ultimi anni e sulle prospettiv
 e e politiche future: è "Il turismo cresce\, Firenze cambia" convegno org
 anizzato da Confesercenti Firenze e Asshotel\, in collaborazione con Centr
 o Studi Turistici di Firenze.\n\nL'appuntamento è fissato per MARTEDI' 12
  DICEMBRE\, a partire dalle ore 14.30\, presso l'infopoint del Comune di F
 irenze\, in piazza Stazione 4a (1^ Piano) a Firenze.\n\nIl territorio dell
 a Città Metropolitana di Firenze sta vivendo una fase di crescita di pre
 senze turistiche e Firenze in particolare\, sta registrando flussi importa
 nti: questo sta producendo sviluppo economico unito ad una trasformazione 
 della città che fa emergere nuovi temi\, che vanno affrontati\, gestiti 
 e soprattutto governati in una visione prospettica.\n\nL'iniziativa di Con
 fesercenti vuole fornire un contributo di riflessioni e proposte\, che pro
 vengono da chi vive ed opera quotidianamente in città\, con l’obiettiv
 o di coniugare crescita\, organizzazione\, legalità e qualità della pr
 esenta turistica nel nostro territorio.\n\nAll'incontro parteciperanno Cla
 udio Bianchi\, presidente Confesercenti Firenze\, Alessandro Tortelli\, di
 rettore Centro Studi Turistici\, Anna Paola Concia\, assessore turismo Com
 une di Firenze\, Marco Carrai\, presidente Toscana Aeroporti spa\, Francec
 so Tapinassi\, dirigente politiche turismo MIBACT\, Antonio Bugatti\, Fond
 azione Architetti Firenze\, Cristina Pagani\, presidente Asshotel Firenze.
  Coordina il dibattito il giornalista Andrea Vignolini.\n\nSeguirà un caf
 fè di saluto e ringraziamento per i partecipanti.\n\nScarica l'invito al 
 convegno Il turismo cresce\, Firenze cambia\n\nPer informazioni: Confeser
 centi Firenze\, 055.2705201 o info@confesercenti.fi.it
ATTACH;FMTTYPE=image/jpeg:https://centrostudituristicifirenze.it/wp-conten
 t/uploads/2015/01/turisti-a-firenze.jpg
CATEGORIES:Evento
LOCATION:Infopoint Comune Firenze\, Piazza Stazione\, 4a\, Firenze\, Italia
GEO:43.77691;11.249249999999961
X-APPLE-STRUCTURED-LOCATION;VALUE=URI;X-ADDRESS=Piazza Stazione\, 4a\, Fire
 nze\, Italia;X-APPLE-RADIUS=100;X-TITLE=Infopoint Comune Firenze:geo:43.77
 691,11.249249999999961
END:VEVENT
BEGIN:VTIMEZONE
TZID:Europe/Rome
X-LIC-LOCATION:Europe/Rome
BEGIN:STANDARD
DTSTART:20171029T020000
TZOFFSETFROM:+0200
TZOFFSETTO:+0100
TZNAME:CET
END:STANDARD
END:VTIMEZONE
END:VCALENDAR