BEGIN:VCALENDAR
VERSION:2.0
PRODID:-//wp-events-plugin.com//7.2.3.1//EN
TZID:Europe/Rome
X-WR-TIMEZONE:Europe/Rome
BEGIN:VEVENT
UID:1-73@centrostudituristicifirenze.it
DTSTART;TZID=Europe/Rome:20161029T100000
DTEND;TZID=Europe/Rome:20161029T140000
DTSTAMP:20160825T083139Z
URL:https://centrostudituristicifirenze.it/eventi/formazione-giornalisti-c
 orso-youtube-operativo/
SUMMARY:Formazione Giornalisti: corso YouTube operativo
DESCRIPTION:Dopo il successo dell'edizione 2014\, torna il corso YouTube
  operativo per giornalisti: il corso rientra nella FORMAZIONE OBBLIGATO
 RIA dell'Ordine dei Giornalisti della Toscana e permetterà a ciascun part
 ecipante di ottenere 4 CREDITI FORMATIVI!\nIl corso YouTube operativo p
 er Giornalisti si terrà SABATO 29 OTTOBRE 2016\, dalle ore 10 alle 14
  ed è riservato a 20 partecipanti!\n\nIl costo a persona è di € 100
  (IVA inclusa)!\n\nPer iscriversi vai su piattaforma SiGeF!\n\nATTENZIONE
 : il corso avrà luogo solo in caso di raggiungimento di un numero minimo 
 di partecipanti! In caso di mancato raggiungimento del numero minimo\, gli
  iscritti avranno la possibilità di partecipare ad uno dei corsi successi
 vi o di ottenere il rimborso del costo.\nCONTENUTI\nIl corso è rivolto sp
 ecificatamente a giornalisti pubblicisti e professionisti\, che desiderino
  acquisire le nozioni fondamentali per gestire al meglio un canale Youtube
  dal punto di vista della comunicazione giornalistica.\n\nDurante il corso
  imparerai:\n\n- Come funziona Youtube: cos'è un account e principali reg
 ole di utilizzo\n\n- Apertura di un account Youtube: verrà mostrato come 
 si apre un account Youtube\, il collegamento con Google+ e ogni partecipan
 te potrà quindi aprire il proprio\n\n- Come si gestisce un account Youtub
 e: inserimento dei video\, link e foto\, interazione con gli utenti\, gest
 ione pm.\n\n- Programmazione di un account Youtube: quali tipi di video us
 are e come creare una propria linea editoriale.\n\n- Analisi dei risultati
 : come leggere i dati relativi all'attività del proprio account (Youtube 
 Insight) e come migliorare le prestazioni.\n\n- Esempi pratici di gestione
  di account Youtube nella comunicazione giornalistica\n\nIl corso sarà ac
 compagnate dalla proiezione di slides\, che aiuteranno i partecipanti nell
 a comprensione di quanto spiegato.\n\nOgni partecipante potrà mettere in 
 pratica quanto spiegato sul proprio computer.\nA CHI E' RIVOLTO \nA tutti
  i giornalisti\, pubblicisti e professionisti\, iscritti all'Ordine Nazio
 nale che vogliono imparare le nozioni base per un corretto uso di Inter
 net nell'ambito della gestione di uffici stampa.\nIl corso consente di ott
 enere 4 CREDITI FORMATIVI!\nDOCENTI\nIl corso YouTube operativo per gior
 nalisti sarà tenuto dalle giornaliste professioniste dello Studio Assoc
 iato ObiettivoTre.\nSEDE E ORARI\nIl corso YouTube operativo per giorna
 listi si terrà SABATO 29 OTTOBRE 2016\, orario 10-14\, presso la sede 
 di CST Firenze\, via Piemonte 7\, a Firenze.\nPer sapere come raggiungere
  la sede di CST Firenze clicca qui!\nCOSTO E ISCRIZIONI\nLa partecipazi
 one al corso YouTube operativo per giornalisti è riservata ai giornali
 sti\, pubblicisti e professionisti\, iscritti all'Ordine Nazionale\, fino
  a 20!\nLa quota di partecipazione è di € 100 (IVA inclusa) e compren
 de la partecipazione alle 2 sessioni (mattina e pomeriggio) e le slides de
 l corso.\n\nL'iscrizione dovrà essere effettuata sulla piattaforma SiGeF
  dell'Ordine dei Giornalisti cliccando su questo link\, procedendo all'au
 tenticazione dei propri dati e seguendo le indicazioni riportate nella sc
 heda del corso.\n\nL'iscrizione verrà ritenuta valida al momento dell'avv
 enuta notifica del pagamento della quota di partecipazione mediante bonifi
 co bancario codice IBAN IT07V0616002805000017198C00 intestato a Centro Stu
 di Turistici. Nella causale riportare la dizione "Corso YOUTUBE OPERATIVO
  PER GIORNALISTI".\n\nATTENZIONE: il corso avrà luogo solo in caso di ra
 ggiungimento di un numero minimo di partecipanti! In caso di mancato raggi
 ungimento del numero minimo\, gli iscritti avranno la possibilità di part
 ecipare ad uno dei corsi successivi o di ottenere il rimborso del costo.\n
 INFORMAZIONI\n\nPer maggiori informazioni è possibile rivolgersi a Silvia
  Imundo scrivendo a s.imundo@cstfirenze.it o chiamando\, in orario 9-13\, 
 al numero 055.3438733 o 055.3438720.\n&nbsp\;\n\n--) Vai al Calendario CS
 T Formazione Giornalisti 2016
ATTACH;FMTTYPE=image/jpeg:https://centrostudituristicifirenze.it/wp-conten
 t/uploads/2016/04/corsi-cst-e-odg-formazione-giornalisti.jpg
CATEGORIES:Corsi a pagamento
LOCATION:Sede CST Firenze\, Via Piemonte 7\, Firenze\, Fi\, 50145 \, Italia
GEO:43.79361040000001;11.195563600000014
X-APPLE-STRUCTURED-LOCATION;VALUE=URI;X-ADDRESS=Via Piemonte 7\, Firenze\, 
 Fi\, 50145 \, Italia;X-APPLE-RADIUS=100;X-TITLE=Sede CST Firenze:geo:43.79
 361040000001,11.195563600000014
END:VEVENT
BEGIN:VTIMEZONE
TZID:Europe/Rome
X-LIC-LOCATION:Europe/Rome
BEGIN:DAYLIGHT
DTSTART:20160327T030000
TZOFFSETFROM:+0100
TZOFFSETTO:+0200
TZNAME:CEST
END:DAYLIGHT
END:VTIMEZONE
END:VCALENDAR