BEGIN:VCALENDAR
VERSION:2.0
PRODID:-//wp-events-plugin.com//7.2.3.1//EN
TZID:Europe/Rome
X-WR-TIMEZONE:Europe/Rome
BEGIN:VEVENT
UID:1-70@centrostudituristicifirenze.it
DTSTART;TZID=Europe/Rome:20161008T100000
DTEND;TZID=Europe/Rome:20161008T140000
DTSTAMP:20160825T083346Z
URL:https://centrostudituristicifirenze.it/eventi/formazione-giornalisti-c
 orso-videogiornalismo-operativo/
SUMMARY:Formazione Giornalisti: corso Videogiornalismo operativo
DESCRIPTION:Dopo il successo dell'edizione 2014\, torna il corso Videogio
 rnalismo operativo per giornalisti: il corso rientra nella FORMAZIONE O
 BBLIGATORIA dell'Ordine dei Giornalisti della Toscana e permetterà a cias
 cun partecipante di ottenere 4 CREDITI FORMATIVI!\nIl corso Videogiornali
 smo operativo per Giornalisti si terrà SABATO 8 OTTOBRE 2016\, dalle 
 ore 10 alle 14 ed è riservato a 20 partecipanti!\n\nIl costo a persona
  è di € 100 (IVA inclusa)!\n\nPer iscriversi vai su piattaforma SiGeF
 !\n\nATTENZIONE: il corso avrà luogo solo in caso di raggiungimento di un
  numero minimo di partecipanti! In caso di mancato raggiungimento del nume
 ro minimo\, gli iscritti avranno la possibilità di partecipare ad uno dei
  corsi successivi o di ottenere il rimborso del costo.\nCONTENUTI\nIl cors
 o è rivolto specificatamente a giornalisti pubblicisti e professionisti\,
  che abbiano già nozioni video e desiderino provare a confezionare pratic
 amente una videonotizia o comunque un proprio video.\n\nDurante il corso i
 mparerai:\n\n- Nozioni pratiche di ripresa: sessione di ripresa con videoc
 amera\n\n- Editing video: acquisizione montaggio del girato su Pc\n\n- Esp
 ortazione: formati migliori per esportare il proprio video e condividerlo 
 online\n\nOgni partecipante avrà la possibilità di provare in pratica q
 uanto spiegato.\nA CHI E' RIVOLTO \nA tutti i giornalisti\, pubblicisti 
 e professionisti\, iscritti all'Ordine Nazionale che vogliono imparare le
  nozioni base per un corretto uso di Internet nell'ambito della gestione
  di uffici stampa.\nIl corso consente di ottenere 4 CREDITI FORMATIVI!\nD
 OCENTI\nIl corso Videogiornalismo operativo per giornalisti sarà tenuto
  dalle giornaliste professioniste dello Studio Associato ObiettivoTre.\n
 SEDE E ORARI\nIl corso Videogiornalismo operativo per giornalisti si te
 rrà SABATO 8 OTTOBRE 2016\, orario 10-14\, presso la sede di CST Firenz
 e\, via Piemonte 7\, a Firenze.\nPer sapere come raggiungere la sede di C
 ST Firenze clicca qui!\nCOSTO E ISCRIZIONI\nLa partecipazione al corso 
 Videogiornalismo operativo per giornalisti è riservata ai giornalisti\
 , pubblicisti e professionisti\, iscritti all'Ordine Nazionale fino a 20!
 \nLa quota di partecipazione è di € 100 (IVA inclusa) e comprende la 
 partecipazione alle 2 sessioni (mattina e pomeriggio) e le slides del cors
 o.\n\nL'iscrizione dovrà essere effettuata sulla piattaforma SiGeF dell'
 Ordine dei Giornalisti cliccando su questo link\, procedendo all'autentic
 azione dei propri dati e seguendo le indicazioni riportate nella scheda d
 el corso.\n\nL'iscrizione verrà ritenuta valida al momento dell'avvenuta 
 notifica del pagamento della quota di partecipazione mediante bonifico ban
 cario codice IBAN IT07V0616002805000017198C00 intestato a Centro Studi Tur
 istici. Nella causale riportare la dizione "Corso VIDEOGIORNALISMO OPERAT
 IVO PER GIORNALISTI".\n\nATTENZIONE: il corso avrà luogo solo in caso di
  raggiungimento di un numero minimo di partecipanti! In caso di mancato ra
 ggiungimento del numero minimo\, gli iscritti avranno la possibilità di p
 artecipare ad uno dei corsi successivi o di ottenere il rimborso del costo
 .\nINFORMAZIONI\n\nPer maggiori informazioni è possibile rivolgersi a Sil
 via Imundo scrivendo a s.imundo@cstfirenze.it o chiamando\, in orario 9-13
 \, al numero 055.3438733 o 055.3438720.\n&nbsp\;\n\n--) Vai al Calendario
  CST Formazione Giornalisti 2016
ATTACH;FMTTYPE=image/jpeg:https://centrostudituristicifirenze.it/wp-conten
 t/uploads/2016/04/corsi-cst-e-odg-formazione-giornalisti.jpg
CATEGORIES:Corsi a pagamento
LOCATION:Sede CST Firenze\, Via Piemonte 7\, Firenze\, Fi\, 50145 \, Italia
GEO:43.79361040000001;11.195563600000014
X-APPLE-STRUCTURED-LOCATION;VALUE=URI;X-ADDRESS=Via Piemonte 7\, Firenze\, 
 Fi\, 50145 \, Italia;X-APPLE-RADIUS=100;X-TITLE=Sede CST Firenze:geo:43.79
 361040000001,11.195563600000014
END:VEVENT
BEGIN:VTIMEZONE
TZID:Europe/Rome
X-LIC-LOCATION:Europe/Rome
BEGIN:DAYLIGHT
DTSTART:20160327T030000
TZOFFSETFROM:+0100
TZOFFSETTO:+0200
TZNAME:CEST
END:DAYLIGHT
END:VTIMEZONE
END:VCALENDAR