BEGIN:VCALENDAR
VERSION:2.0
PRODID:-//wp-events-plugin.com//7.2.3.1//EN
TZID:Europe/Rome
X-WR-TIMEZONE:Europe/Rome
BEGIN:VEVENT
UID:0-135@centrostudituristicifirenze.it
DTSTART;TZID=Europe/Rome:20180405T093000
DTEND;TZID=Europe/Rome:20180405T133000
DTSTAMP:20180403T105334Z
URL:https://centrostudituristicifirenze.it/eventi/dire-e-fare-destinazione
 turismo-valdichiana/
SUMMARY:Dire e Fare: #DestinazioneTurismo - Valdichiana a Sinalunga
DESCRIPTION:Dopo l'elaborazione del Libro Verde del Turismo in Toscana\, pr
 esentato a dicembre 2017\, Dire e fare torna ad incontrare gli operatori d
 el territorio.\n\nL'obiettivo è provare a concretizzare le raccomandazion
 i emerse in tema di turismo.\n\nL'appuntamento #DestinazioneTurismo - Vald
 ichiana\, organizzato da ANCI Toscana\, è fissato per il 5 APRILE 2018 a 
 Sinalunga.\n\nPartendo dai territori\, veri protagonisti e autori del Libr
 o Verde\, l’obiettivo sarà quello di individuare gli strumenti necessar
 i per trasformare ogni ambito in destinazione turistica di successo.\n\nNe
 ll’ambito dell’incontro è previsto un tavolo dedicato alle scuole di 
 presentazione dei cantieri di narrazione identitaria\, laboratori per rend
 ere i ragazzi protagonisti della scoperta e della valorizzazione del terri
 torio in cui vivono.\nPROGRAMMA #DESTINAZIONETURISMO - VALDICHIANA\nOre 9.
 00/11.00 SESSIONE PLENARIA\nIntroduzione e saluti\nRiccardo Agnoletto\, si
 ndaco di Sinalunga\nFrancesca Basanieri\, responsabile turismo e marketing
  ANCI Toscana e Sindaco di Cortona\nI driver attuali e futuri\nAlberto Per
 uzzini\, direttore Toscana Promozione Turistica\nVisittuscany.com: l'oppor
 tunità di make\nPaolo Chiappini\, direttore Fondazione Sistema Toscana\nL
 e nuove forme di narrazione del territorio\nEmilio Casalini\, giornalista 
 e scrittore\nIl turismo di domani fra territori\, operatori e prodotti tur
 istici: dimensione e trend del mercato turistico per la Valdichiana\nAless
 andro Tortelli\, direttore CST Firenze\nStory telling e Story doing - Espe
 rienze\, progetti e buone pratiche dei territori\nEmma Licciano\, assessor
 e Comune Sinalunga\n11.00/12.30 SESSIONI IN PARALLELO\nTavolo 1: Valdichia
 na Senese\nTavolo 2: Valdichiana aretina\nTavolo 3: Cantieri di narrazione
  identitaria\nDalle scuole i progetti per raccontare il territorio\nOre 12
 .30/13.00 SESSIONE PLENARIA\nOre 13.30 Degustazione prodotti tipici\nL'ing
 resso è gratuito ma occorre registrarsi online.
ATTACH;FMTTYPE=image/jpeg:https://centrostudituristicifirenze.it/wp-conten
 t/uploads/2017/12/dire-e-fareL.jpg
CATEGORIES:Evento
LOCATION:Teatro Comunale Ciro Pinsuti\, via San martino\, 19\, Sinalunga\, 
 Italia
GEO:43.2128634;11.737235400000031
X-APPLE-STRUCTURED-LOCATION;VALUE=URI;X-ADDRESS=via San martino\, 19\, Sina
 lunga\, Italia;X-APPLE-RADIUS=100;X-TITLE=Teatro Comunale Ciro Pinsuti:geo
 :43.2128634,11.737235400000031
END:VEVENT
BEGIN:VTIMEZONE
TZID:Europe/Rome
X-LIC-LOCATION:Europe/Rome
BEGIN:DAYLIGHT
DTSTART:20180325T030000
TZOFFSETFROM:+0100
TZOFFSETTO:+0200
TZNAME:CEST
END:DAYLIGHT
END:VTIMEZONE
END:VCALENDAR