BEGIN:VCALENDAR
VERSION:2.0
PRODID:-//wp-events-plugin.com//7.2.3.1//EN
TZID:Europe/Rome
X-WR-TIMEZONE:Europe/Rome
BEGIN:VEVENT
UID:0-296@centrostudituristicifirenze.it
DTSTART;TZID=Europe/Rome:20211213T000000
DTEND;TZID=Europe/Rome:20221028T000000
DTSTAMP:20211130T140707Z
URL:https://centrostudituristicifirenze.it/eventi/degustare-corso-gratuito
 -per-addetto-alla-ristorazione/
SUMMARY:Degustare: corso gratuito per addetto alla ristorazione
DESCRIPTION:Centro Studi Turistici di Firenze in partenariato con CPIA Fire
 nze organizza il corso di qualifica "Addetto approvvigionamento della cuci
 na\, conservazione e trattamento materie prime e preparazione e distribuzi
 one di pietanze e bevande "Le tipicità del territorio - degustare pietanz
 e e bevande del territorio\, de-gustare".\n\nDescrizione Figura Profession
 ale\nAddetto approvvigionamento della cucina\, conservazione e trattamento
  materie prime e preparazione e distribuzione di pietanze e bevande - Live
 llo III EQF.\n\nContenuti\nIl percorso di formazione per addetto alla rist
 orazione è GRATUITO\, in quanto finanziato con risorse del POR FSE TOSCAN
 A 2014 – 2020\, ed ha durata annuale. Sono previste didattica in aula\, 
 laboratorio e stage per un totale di 900 ore articolate in:\n230 ore di te
 oria\, 320 di laboratorio e 320 ore di stage da svolgere presso aziende ri
 storative e/o alberghiere e 30 di accompagnamento.\n\nIl corso è rivolto 
 a 15 adulti disoccupati\, inoccupati o in cerca di occupazione\, inattivi 
 che hanno assolto l'obbligo di istruzione\, con età superiore a 18 anni a
 l momento dell'iscrizione e residenti in Toscana.\n\nParticolare attenzion
 e verrà posta a over 55\, disoccupati di lunga durata\, cittadini con bas
 sa scolarità\, ai cittadini anche stranieri residenti o domiciliati in un
  comune della regione Toscana.\n\nLe lezioni si terranno dal lunedì al ve
 nerdì in orario mattutino e/o pomeridiano per 5 ore giornaliere\, da dice
 mbre 2021 a ottobre 2022. Sede del corso sarà Centro Studi Turistici in V
 ia Piemonte\, 7 per la parte teorica e l’Oratorio di Santa Maria a Peret
 ola – Via Primo Settembre\, 4 Firenze per la parte pratica.\n\nLe iscriz
 ioni chiuderanno il 7 DICEMBRE!\n\nAl termine del percorso\, previo supera
 mento dell’esame finale\, verrà rilasciata la qualifica di “Addetto a
 ll’approvvigionamento della cucina\, conservazione e trattamento delle m
 aterie prime e alla preparazione e distribuzione di piatti e bevande” - 
 Livello III EQF.\n\nLe domande d’iscrizione al corso per addetto alla ri
 storazione\, redatte su apposito modulo dovranno essere corredate da una c
 opia del documento di identità.\nLe domande dovranno essere consegnate a 
 mano presso Centro Studi Turistici Via Piemonte\, 7 dal Lunedì al Venerd
 ì con orario 9.00-13.00/14.00-17.00.\n\nIN CASO DI NUMERO DI DOMANDE AMMI
 SSIBILI SUPERIORI AL NUMERO DI ALLIEVI PREVISTO\, LA SELEZIONE SI TERRA’
  IL GIORNO 9 DICEMBRE 2021 ALLE ORE 9.30 PRESSO IL CENTRO STUDI TURISTICI 
 VIA PIEMONTE\, 7.\n\nLe lezioni inizieranno a partire dal 13 dicembre 2021
 .\n\nEmail\n\ns.masi@cstfirenze.it t.pieraccini@cstfirenze.it \n\nTelefono
 \n\n0553438733 0553438720\n\nFax\n\n055301042\n\nAllegati\nBando corso Deg
 ustare\n\nScheda iscrizione\n\nLocandina corso
ATTACH;FMTTYPE=image/jpeg:https://centrostudituristicifirenze.it/wp-conten
 t/uploads/2021/11/degustare.png
CATEGORIES:Corsi gratuiti
LOCATION:Centro Studi Turistici\, via Piemonte\, 7\, Firenze \, Italia
GEO:43.794289;11.195673
X-APPLE-STRUCTURED-LOCATION;VALUE=URI;X-ADDRESS=via Piemonte\, 7\, Firenze 
 \, Italia;X-APPLE-RADIUS=100;X-TITLE=Centro Studi Turistici:geo:43.794289,
 11.195673
END:VEVENT
BEGIN:VTIMEZONE
TZID:Europe/Rome
X-LIC-LOCATION:Europe/Rome
BEGIN:STANDARD
DTSTART:20211031T020000
TZOFFSETFROM:+0200
TZOFFSETTO:+0100
TZNAME:CET
END:STANDARD
BEGIN:DAYLIGHT
DTSTART:20220327T030000
TZOFFSETFROM:+0100
TZOFFSETTO:+0200
TZNAME:CEST
END:DAYLIGHT
END:VTIMEZONE
END:VCALENDAR