BEGIN:VCALENDAR
VERSION:2.0
PRODID:-//wp-events-plugin.com//7.2.3.1//EN
TZID:Europe/Rome
X-WR-TIMEZONE:Europe/Rome
BEGIN:VEVENT
UID:0-291@centrostudituristicifirenze.it
DTSTART;TZID=Europe/Rome:20211002T170000
DTEND;TZID=Europe/Rome:20211002T193000
DTSTAMP:20210921T121245Z
URL:https://centrostudituristicifirenze.it/eventi/cicloturismo-volano-dell
 a-ripartenza-convegno-a-sinalunga/
SUMMARY:Cicloturismo\, il volano della ripartenza: convegno a Sinalunga (SI
 )
DESCRIPTION:Un incontro per fare il punto sui progetti legati al cicloturis
 mo nella Valdichiana: è il convegno "Cicloturismo : il volano della ripar
 tenza" in programma per Sabato 2 Ottobre 2021 a Sinalunga.\nIl convegno si
  svolgerà in occasione della Fiera alla Pieve\ne si terrà a partire dell
 a ore 17 a Pieve di Sinalunga\,\nin Piazza della Stazione\, Area Fiera del
 l'agricoltura.\nDurante i lavori verranno presentati i progetti e servizi 
 d'ambito\, o che coinvolgono più ambiti turistici\, dedicati al cicloturi
 smo: dal bikesharing bici elettiche della Valdichiana Senese\, al progetto
  Terre di Siena Slow con capofila Siena\, al progetto Lauretana\, e molti 
 altri.\n\nIl convegno si terrà in presenza ma potrà essere seguito anche
  via streaming (QR code nella locandina del programma).\n\nAl convegno int
 erverranno tra gli altri\, Leonardo Marras\, assessore al turismo della Re
 gione Toscana\, Francesco tapinassi\, direttore di Toscana Promozione Turi
 stica\, Gianni Bagnoli assessore al turismo del Comune di Sinalunga\, Andr
 ea Marchetti\, sindaco di Cgianciano Terme e molit altri.\n\nAd intervenir
 e per CST Firenze sarà il direttore Alessandro Tortelli che presenterà d
 ati e trend sul cicloturismo.\n\nL'area esterna antistante i locali sede d
 el Convegno sarà inoltre allestita con bici elettriche\, ciclofficine\, r
 astrelliere\, segnaletica cicloturistica.\n\nIl programma completo dell'ev
 ento è scaricabile cliccando qui \n\nPer info: elisa.minetti@comune.sina
 lunga.si.it\; Tel. 0577.635219
ATTACH;FMTTYPE=image/jpeg:https://centrostudituristicifirenze.it/wp-conten
 t/uploads/2019/06/cicloturismo.jpg
CATEGORIES:Evento
LOCATION:Pieve di Sinalunga\, piazza Stazione\, Sinalunga\, Italia
GEO:43.216204;11.74457
X-APPLE-STRUCTURED-LOCATION;VALUE=URI;X-ADDRESS=piazza Stazione\, Sinalunga
 \, Italia;X-APPLE-RADIUS=100;X-TITLE=Pieve di Sinalunga:geo:43.216204,11.7
 4457
END:VEVENT
BEGIN:VTIMEZONE
TZID:Europe/Rome
X-LIC-LOCATION:Europe/Rome
BEGIN:DAYLIGHT
DTSTART:20210328T030000
TZOFFSETFROM:+0100
TZOFFSETTO:+0200
TZNAME:CEST
END:DAYLIGHT
END:VTIMEZONE
END:VCALENDAR