BEGIN:VCALENDAR
VERSION:2.0
PRODID:-//wp-events-plugin.com//7.2.3.1//EN
TZID:Europe/Rome
X-WR-TIMEZONE:Europe/Rome
BEGIN:VEVENT
UID:1-114@centrostudituristicifirenze.it
DTSTART;TZID=Europe/Rome:20171015T093000
DTEND;TZID=Europe/Rome:20171015T193000
DTSTAMP:20171005T134658Z
URL:https://centrostudituristicifirenze.it/eventi/certaldo-wedding-incontr
 o-gli-operatori-certaldo-fi/
SUMMARY:Certaldo Wedding: incontro con gli operatori a Certaldo (FI)
DESCRIPTION:Una giornata di incontro e confronto con gli operatori del terr
 itorio per parlare di wedding e destinazioni turistiche: è Certaldo Weddi
 ng\, l'appuntamento organizzato dal Comune di Certaldo\, Florence Conventi
 on Bureau\, Toscana Promozione Turistica e CST Firenze.\n\nL'appuntamento 
 è per DOMENICA 15 OTTOBRE a Palazzo Pretorio: i lavori si apriranno alle 
 ore 9.30 per concludersi alle 19.30.\n\nAll'evento parteciperà anche il C
 entro Studi Turistici di Firenze che parlerà del fenomeno del destination
  wedding in Toscana e nella zona dell'empolese valdarno.\n\nPer conoscere 
 il programma\, scarica il pdf.
ATTACH;FMTTYPE=image/jpeg:https://centrostudituristicifirenze.it/wp-conten
 t/uploads/2017/09/certaldo-wedding.png
CATEGORIES:Evento
LOCATION:Palazzo Pretorio\, Piazzetta del Vicariato\, 4\, Certaldo\, Italia
GEO:43.5492635;11.04538100000002
X-APPLE-STRUCTURED-LOCATION;VALUE=URI;X-ADDRESS=Piazzetta del Vicariato\, 4
 \, Certaldo\, Italia;X-APPLE-RADIUS=100;X-TITLE=Palazzo Pretorio:geo:43.54
 92635,11.04538100000002
END:VEVENT
BEGIN:VTIMEZONE
TZID:Europe/Rome
X-LIC-LOCATION:Europe/Rome
BEGIN:DAYLIGHT
DTSTART:20170326T030000
TZOFFSETFROM:+0100
TZOFFSETTO:+0200
TZNAME:CEST
END:DAYLIGHT
END:VTIMEZONE
END:VCALENDAR