BEGIN:VCALENDAR
VERSION:2.0
PRODID:-//wp-events-plugin.com//7.2.3.1//EN
TZID:Europe/Rome
X-WR-TIMEZONE:Europe/Rome
BEGIN:VEVENT
UID:0-353@centrostudituristicifirenze.it
DTSTART;TZID=Europe/Rome:20240416T083000
DTEND;TZID=Europe/Rome:20240416T140000
DTSTAMP:20240404T074956Z
URL:https://centrostudituristicifirenze.it/eventi/assemblea-sindaci-anci-p
 er-un-alfabeto-comune-a-di-acqua/
SUMMARY:Assemblea dei sindaci ANCI - Per un Alfabeto comune\, A di Acqua
DESCRIPTION:Due giorni di lavori\, incontri e riflessioni incentrate sul te
 ma dell'acqua: è l'iniziativa organizzata da ANCI Toscana per l'Assemblea
  dei sindaci 2024\, "Per un Alfabeto comune\, A di Acqua".\n\nL'appuntamen
 to è in programma per il 15 e 16 APRILE a Campiglia Marittima\, provincia
  di Livorno.\n\nIn particolare\, la giornata del 16 APRILE sarà incentrat
 a sul tema dell'acqua come risorsa naturale ed elemento da gestire.\nAl di
 battito parteciperà anche Alessandro Tortelli\, direttore di CST Firenze.
 \nPROGRAMMA 16 APRILE\nPer un'Alfabeto comune\, A come Acqua\n0830 &gt\; F
 ARE INSIEME\, FARE SQUADRA\n•visita guidata al Parco Archeominerario di 
 San Silvestro a bordo del treno minerario\nRitrovo parcheggio area Valle L
 anzi (via Benedetto Lippi)\nPer un Alfabeto Comune: A di Acqua \nCentro di
  documentazione di Villa Lanzi\n1030 &gt\;Aprono Raffaella Mariani Deleg
 ata Parchi\, Acqua e Servizi Ecosistemici Anci Toscana e Sindaca di San Ro
 mano Garfagnana Alessandro Mazzei Direttore Autorità Idrica Toscana Lui
 gi Idili Regione Toscana\n\nIntroduzione\nPier Francesco Ghetti Universit
 à Ca’ Foscari Venezia*\n11.30 - 13.30 &gt\;A DI ACQUA &gt\;IN PARALLELO
 \nTre panel paralleli di approfondimento e confronto sul tema della risors
 a idrica come servizio ecosistemico\, elemento da valorizzare\, rischio da
  gestire\, risorsa da tutelare.\nPRIMO PANEL\nLa scoperta dell’acqua cal
 da...e non solo \nbene e risorsa per il turismo\nAprono\nMichele Angiolini
  Sindaco di Montepulciano e Delegato al Turismo Anci Toscana\nMassimo Capu
 ti Presidente di Federterme*\nDati e tendenze di mental wellness e turismo
  termale\nAlessandro Tortelli Direttore Centro Studi Turistici di Firenze\
 nWellbeing in Tuscany\nFrancesco Tapinassi Direttore Toscana Promozione Tu
 ristica\nBUONE PRATICHE A CONFRONTO\n• Il Progetto Vie dell’Acqua #Val
 dichiana2026 nel dossier di candidatura a Capitale della Cultura\nAgnese C
 arletti Presidente Unione dei Comuni Valdichiana Senese e Sindaca di San C
 asciano dei Bagni\n• Sorgenti e turismo slow: le Vie dell’Acqua dell
 ’Amiata\nClaudio Galletti Sindaco di Castiglion d’Orcia\n• Canyoning
  e Torrentismo: sport e turismo nell’esperienza della Valle del Serchio\
 nMichele Giannini Sindaco di Fabbriche di Vergemoli\nSpazio di dibattito\n
 SECONDO PANEL\nAcqua in bocca: la gestione dell’acqua nelle filiere alim
 entari\nAprono\nRoberta Casini Delegata all’Agricoltura di Anci Toscana 
 e Sindaca di Lucignano Stella Zannoni Assessora all’Agricoltura del Comu
 ne di Campiglia Marittima Giancarlo Vallesi Presidente Consorzio di Bonifi
 ca 5\nIntroduce\nDaniele Vergari Accademia dei Georgofili\nBUONE PRATICHE 
 A CONFRONTO\n• Vivai e risorsa idrica \nAlessandro Tomasi Sindaco di P
 istoia\, Emilio Resta Distretto Rurale Vivaistico-Ornamentale di Pistoia\n
 • Utilizzo dell’acqua nella coltivazione del carciofo\nPaolo Simonelli
  Terre dell’Etruria\n• Il distretto biologico della Maremma \nAntonf
 rancesco Vivarelli Colonna Presidente del Distretto\, Sindaco di Grosseto*
 \n• Pane e acqua\nRosario Floriddia Azienda Agricola Bio Floriddia\n\nCo
 nclusioni\nSandro Pieroni Regione Toscana\nTERZO PANEL \nNon è acqua pass
 ata: \nadattamento al cambiamento climatico e comunità\nEvento di lancio 
 del progetto ADAPTWISE (Interreg IT- FR Marittimo 2021 - 2027)\nAprono\nSa
 ndro Fallani Delegato Politiche Ambientali di Anci Toscana e Sindaco di Sc
 andicci Elena Fossi Assessora Ambiente del Comune di Campiglia Marittima\n
 Introduzione\nMonia Monni Assessora all’Ambiente della Regione Toscana*\
 nPATTI DI COLLABORAZIONE E GESTIONE DEL CAMBIAMENTO\nIntroduce e coordina\
 nJacopo Bencini Italian Climate Network e Assessore Politiche per la soste
 nibilità e la transizione del Comune di Pontassieve*\n• Le firewise: un
  modello da cui partire\nMassimiliano Ghimenti Sindaco di Calci*\n• Dal 
 fuoco all’acqua: il progetto ADAPTWISE\nElena Conti e Valentina Bucchi A
 nci Toscana\nNe discutiamo con\nLuca Salvetti Sindaco di Livorno *\, Nicol
 a Perini Presidente CISPEL Toscana\, Rossana Caselli LABSUS Federico Gas
 perini Direttore Legambiente Toscana\, Remus Balan CCI Var\, Moreno Botti 
 Sindaco di Loro Ciuffenna\n\n1330 &gt\; Pranzo\n*In attesa di conferma\n\n
 Scopri il programma completo della 2 giorni e le modalità di iscrizione s
 ul sito di Anci Toscana\n\n\n\n&nbsp\;
ATTACH;FMTTYPE=image/jpeg:https://centrostudituristicifirenze.it/wp-conten
 t/uploads/2024/04/hot-spring-7103958_1280-2.jpg
CATEGORIES:Evento
LOCATION:Villa Lanzi\, via Benedetto Lippi\, 7\, Campiglia Marittima\, Ital
 ia
GEO:43.088492;10.606247
X-APPLE-STRUCTURED-LOCATION;VALUE=URI;X-ADDRESS=via Benedetto Lippi\, 7\, C
 ampiglia Marittima\, Italia;X-APPLE-RADIUS=100;X-TITLE=Villa Lanzi:geo:43.
 088492,10.606247
END:VEVENT
BEGIN:VTIMEZONE
TZID:Europe/Rome
X-LIC-LOCATION:Europe/Rome
BEGIN:DAYLIGHT
DTSTART:20240331T030000
TZOFFSETFROM:+0100
TZOFFSETTO:+0200
TZNAME:CEST
END:DAYLIGHT
END:VTIMEZONE
END:VCALENDAR