BEGIN:VCALENDAR
VERSION:2.0
PRODID:-//wp-events-plugin.com//7.2.3.1//EN
TZID:Europe/Rome
X-WR-TIMEZONE:Europe/Rome
BEGIN:VEVENT
UID:0-130@centrostudituristicifirenze.it
DTSTART;TZID=Europe/Rome:20180319T103000
DTEND;TZID=Europe/Rome:20180319T130000
DTSTAMP:20180307T083252Z
URL:https://centrostudituristicifirenze.it/eventi/assemblea-elettiva-fiepe
 t-toscana/
SUMMARY:Assemblea elettiva Fiepet Toscana a Pistoia
DESCRIPTION:Si svolgerà lunedì 19 MARZO a La Cattedrale - Area ex Breda d
 i Pistoia\, l'assemblea elettiva Fiepet Toscana\, Federazione Italiana Es
 ercizi pubblici e turistici di Confesercenti.\n\nCome di consueto\, l'appu
 ntamento prevede che una parte della mattinata di lavori sia aperta solo a
 i delegati Fiepet che eleggeranno le cariche statutarie\; la seconda parte
 \, invece\, sarà aperta al pubblico\, a partire dalle ore 10\,30.\n\nQues
 t'anno il tema dell'incontro pubblico di Fiepet Toscana sarà "La ristoraz
 ione tra innovazione\, qualità e tradizione per valorizzare il territorio
 ".\nA confrontarsi saranno Stefano Ciuoffo\, assessore al turismo della Re
 gione Toscana\, Alessandro Tortelli\, direttore CST Firenze e Esmeralda Gi
 ampaoli\, presidente nazionale Fiepet.\n\nDurante l'incontro e il successi
 vo dibattito verrà presentata anche la piattaforma di lavoro di Fiepet To
 scana.
ATTACH;FMTTYPE=image/jpeg:https://centrostudituristicifirenze.it/wp-conten
 t/uploads/2018/03/assemblea-Fiepet-confesercenti.png
CATEGORIES:Evento
LOCATION:La Cattedrale\, via Sandro Pertini\, Pistoia\, Italia
GEO:43.9274366;10.910231199999998
X-APPLE-STRUCTURED-LOCATION;VALUE=URI;X-ADDRESS=via Sandro Pertini\, Pistoi
 a\, Italia;X-APPLE-RADIUS=100;X-TITLE=La Cattedrale:geo:43.9274366,10.9102
 31199999998
END:VEVENT
BEGIN:VTIMEZONE
TZID:Europe/Rome
X-LIC-LOCATION:Europe/Rome
BEGIN:STANDARD
DTSTART:20171029T020000
TZOFFSETFROM:+0200
TZOFFSETTO:+0100
TZNAME:CET
END:STANDARD
END:VTIMEZONE
END:VCALENDAR